BEGIN:VCALENDAR
VERSION:2.0
PRODID:-//Vista at Montaine Resident Website - ECPv6.15.18//NONSGML v1.0//EN
CALSCALE:GREGORIAN
METHOD:PUBLISH
X-ORIGINAL-URL:https://www.vistamontaineresidents.com
X-WR-CALDESC:Events for Vista at Montaine Resident Website
REFRESH-INTERVAL;VALUE=DURATION:PT1H
X-Robots-Tag:noindex
X-PUBLISHED-TTL:PT1H
BEGIN:VTIMEZONE
TZID:America/Denver
BEGIN:DAYLIGHT
TZOFFSETFROM:-0700
TZOFFSETTO:-0600
TZNAME:MDT
DTSTART:20250309T090000
END:DAYLIGHT
BEGIN:STANDARD
TZOFFSETFROM:-0600
TZOFFSETTO:-0700
TZNAME:MST
DTSTART:20251102T080000
END:STANDARD
BEGIN:DAYLIGHT
TZOFFSETFROM:-0700
TZOFFSETTO:-0600
TZNAME:MDT
DTSTART:20260308T090000
END:DAYLIGHT
BEGIN:STANDARD
TZOFFSETFROM:-0600
TZOFFSETTO:-0700
TZNAME:MST
DTSTART:20261101T080000
END:STANDARD
BEGIN:DAYLIGHT
TZOFFSETFROM:-0700
TZOFFSETTO:-0600
TZNAME:MDT
DTSTART:20270314T090000
END:DAYLIGHT
BEGIN:STANDARD
TZOFFSETFROM:-0600
TZOFFSETTO:-0700
TZNAME:MST
DTSTART:20271107T080000
END:STANDARD
END:VTIMEZONE
BEGIN:VEVENT
DTSTART;TZID=America/Denver:20260412T100000
DTEND;TZID=America/Denver:20260412T110000
DTSTAMP:20260422T100127
CREATED:20260402T220718Z
LAST-MODIFIED:20260402T220718Z
UID:10000678-1775988000-1775991600@www.vistamontaineresidents.com
SUMMARY:Doughnut Pop Up
DESCRIPTION:Start your Sunday off right! Stop by the Amenity Center for a coffee\, a doughnut\, and say hi to some neighbors while you’re here. \nRSVP on the Vista at Montaine app to let us know you’ll be there.
URL:https://www.vistamontaineresidents.com/event/doughnut-pop-up-2/
LOCATION:Vista Amenity Center\, 945 E Montaine Cir\, Castle Rock\, CO\, 80104\, United States
CATEGORIES:event
END:VEVENT
BEGIN:VEVENT
DTSTART;TZID=America/Denver:20260404T110000
DTEND;TZID=America/Denver:20260404T130000
DTSTAMP:20260422T100127
CREATED:20260312T203632Z
LAST-MODIFIED:20260312T203632Z
UID:10000664-1775300400-1775307600@www.vistamontaineresidents.com
SUMMARY:Vista Egg Hunt
DESCRIPTION:Hop on over for a morning of springtime fun at our Easter Egg Hunt! Join us for a festive egg hunt filled with treats and surprises for kids of all ages. \n\nBut the fun isn’t just for the little ones — we’ll also have a special adult egg hunt with prizes\, plus a petting zoo where you can meet some adorable animals up close. Bring the whole family and celebrate the season with neighbors at this egg-cellent community event! \nRSVP on the app so we can be sure there’s enough eggs for all!
URL:https://www.vistamontaineresidents.com/event/vista-egg-hunt/
LOCATION:Vista Amenity Center\, 945 E Montaine Cir\, Castle Rock\, CO\, 80104\, United States
CATEGORIES:event
END:VEVENT
BEGIN:VEVENT
DTSTART;TZID=America/Denver:20260328T150000
DTEND;TZID=America/Denver:20260328T160000
DTSTAMP:20260422T100127
CREATED:20260305T190054Z
LAST-MODIFIED:20260305T190054Z
UID:10000658-1774710000-1774713600@www.vistamontaineresidents.com
SUMMARY:Spring Cookie Decorating Class
DESCRIPTION:Frosting\, sprinkles\, and a little creativity — what more could you need? Join us March 28 from 3-4 p.m. for a cookie decorating class where you’ll decorate (and probably sneak a bite of) your own tasty creations. This class is $20 per person — register now and come ready for some sweet fun!\nRegistrations close March 21st – Register on the Vista at Montaine app. \nNeed help signing up? Contact Tori at vholland@coherelife.com.
URL:https://www.vistamontaineresidents.com/event/spring-cookie-decorating-class/
LOCATION:Vista Amenity Center\, 945 E Montaine Cir\, Castle Rock\, CO\, 80104\, United States
CATEGORIES:event
END:VEVENT
BEGIN:VEVENT
DTSTART;TZID=America/Denver:20260323T090000
DTEND;TZID=America/Denver:20260323T170000
DTSTAMP:20260422T100127
CREATED:20260205T203149Z
LAST-MODIFIED:20260205T211038Z
UID:10000647-1774256400-1774285200@www.vistamontaineresidents.com
SUMMARY:Ballot Drop-Off
DESCRIPTION:Ballots for the VMCA Board of Directors election can be dropped off at the Vista Amenity Center during these times. The Community Life Team will be available to receive ballots Mondays – Fridays 9 a.m. – 5 p.m. and Sundays in March 10 a.m. – 2 p.m. \nPlease note: On Thursday\, March 5th\, we will not be able to receive ballots after 1 p.m. \nIf you did not receive your election packet in the mail or have misplaced it\, we have extra ballots and packets at the Amenity Center. \nIf you are mailing your ballot\, please be sure to closely follow the instructions provided. Ballots received via mail that are not in the secrecy envelope and do not have a return address are considered invalid and will not be counted.
URL:https://www.vistamontaineresidents.com/event/ballot-drop-off/2026-03-23/
LOCATION:Vista Amenity Center\, 945 E Montaine Cir\, Castle Rock\, CO\, 80104\, United States
CATEGORIES:event
END:VEVENT
BEGIN:VEVENT
DTSTART;TZID=America/Denver:20260322T100000
DTEND;TZID=America/Denver:20260322T140000
DTSTAMP:20260422T100127
CREATED:20260205T203242Z
LAST-MODIFIED:20260206T002902Z
UID:10000650-1774173600-1774188000@www.vistamontaineresidents.com
SUMMARY:Ballot Drop-Off
DESCRIPTION:Ballots for the VMCA Board of Directors election can be dropped off at the Vista Amenity Center during these times. The Community Life Team will be available to receive ballots Mondays – Fridays 9 a.m. – 5 p.m. and Sundays in March 10 a.m. – 2 p.m. \nPlease note: On Thursday\, March 5th\, we will not be able to receive ballots after 1 p.m. \nIf you did not receive your election packet in the mail or have misplaced it\, we have extra ballots and packets at the Amenity Center. \nIf you are mailing your ballot\, please be sure to closely follow the instructions provided. Ballots received via mail that are not in the secrecy envelope and do not have a return address are considered invalid and will not be counted.
URL:https://www.vistamontaineresidents.com/event/ballot-drop-off-2/2026-03-22/
LOCATION:Vista Amenity Center\, 945 E Montaine Cir\, Castle Rock\, CO\, 80104\, United States
CATEGORIES:event
END:VEVENT
END:VCALENDAR