BEGIN:VCALENDAR
VERSION:2.0
PRODID:-//Vista at Montaine Resident Website - ECPv6.15.18//NONSGML v1.0//EN
CALSCALE:GREGORIAN
METHOD:PUBLISH
X-WR-CALNAME:Vista at Montaine Resident Website
X-ORIGINAL-URL:https://www.vistamontaineresidents.com
X-WR-CALDESC:Events for Vista at Montaine Resident Website
REFRESH-INTERVAL;VALUE=DURATION:PT1H
X-Robots-Tag:noindex
X-PUBLISHED-TTL:PT1H
BEGIN:VTIMEZONE
TZID:America/Denver
BEGIN:DAYLIGHT
TZOFFSETFROM:-0700
TZOFFSETTO:-0600
TZNAME:MDT
DTSTART:20250309T090000
END:DAYLIGHT
BEGIN:STANDARD
TZOFFSETFROM:-0600
TZOFFSETTO:-0700
TZNAME:MST
DTSTART:20251102T080000
END:STANDARD
BEGIN:DAYLIGHT
TZOFFSETFROM:-0700
TZOFFSETTO:-0600
TZNAME:MDT
DTSTART:20260308T090000
END:DAYLIGHT
BEGIN:STANDARD
TZOFFSETFROM:-0600
TZOFFSETTO:-0700
TZNAME:MST
DTSTART:20261101T080000
END:STANDARD
BEGIN:DAYLIGHT
TZOFFSETFROM:-0700
TZOFFSETTO:-0600
TZNAME:MDT
DTSTART:20270314T090000
END:DAYLIGHT
BEGIN:STANDARD
TZOFFSETFROM:-0600
TZOFFSETTO:-0700
TZNAME:MST
DTSTART:20271107T080000
END:STANDARD
END:VTIMEZONE
BEGIN:VEVENT
DTSTART;TZID=America/Denver:20260418T090000
DTEND;TZID=America/Denver:20260418T100000
DTSTAMP:20260422T095522
CREATED:20260105T204215Z
LAST-MODIFIED:20260326T195313Z
UID:10000673-1776502800-1776506400@www.vistamontaineresidents.com
SUMMARY:Yoga
DESCRIPTION:Join Bridget for a one hour all-levels yoga class. This class is appropritate for beginners and seasond practitioners. Variations and options for modifications will be given. Please bring a yoga mat — other props such as blocks\, blankets\, straps\, etc. are optional. At this time\, props are not available in the Amenity Center. \nPlease register on the app to save your spot – and if you can’t make it\, cancel your registration to allow room for others!
URL:https://www.vistamontaineresidents.com/event/yoga/2026-04-18/
LOCATION:Multipurpose Room – South\, 945 E. Montaine Circle\, Castle Rock\, CO\, 80104\, United States
CATEGORIES:event
END:VEVENT
BEGIN:VEVENT
DTSTART;TZID=America/Denver:20260414T180000
DTEND;TZID=America/Denver:20260414T190000
DTSTAMP:20260422T095522
CREATED:20260402T220602Z
LAST-MODIFIED:20260402T220602Z
UID:10000676-1776189600-1776193200@www.vistamontaineresidents.com
SUMMARY:Yoga with Adi
DESCRIPTION:Unwind and recharge with Yoga with Adi! This all-levels class is a great way to stretch\, relax\, and connect with neighbors. Please bring your own mat and water\, and be sure to sign up in advance to participate.\nBe sure to register on the Vista at Montaine app under “Community Events”.
URL:https://www.vistamontaineresidents.com/event/yoga-with-adi/2026-04-14/
LOCATION:Multipurpose Room – South\, 945 E. Montaine Circle\, Castle Rock\, CO\, 80104\, United States
CATEGORIES:event
END:VEVENT
BEGIN:VEVENT
DTSTART;TZID=America/Denver:20260411T090000
DTEND;TZID=America/Denver:20260411T100000
DTSTAMP:20260422T095522
CREATED:20251023T185948Z
LAST-MODIFIED:20260416T202737Z
UID:10000670-1775898000-1775901600@www.vistamontaineresidents.com
SUMMARY:Mat Pilates
DESCRIPTION:Wake up and move with Dyne at our 9 a.m. Mat Pilates class! This welcoming class focuses on building core strength\, improving flexibility\, and finding balance — all at a pace that’s right for you. Perfect for all levels\, come start your day feeling energized and refreshed! \nSpots are limited\, so be sure to RSVP. Bring a mat if you have one.
URL:https://www.vistamontaineresidents.com/event/mat-pilates/2026-04-11/
LOCATION:Multipurpose Room – South\, 945 E. Montaine Circle\, Castle Rock\, CO\, 80104\, United States
CATEGORIES:event
END:VEVENT
BEGIN:VEVENT
DTSTART;TZID=America/Denver:20260404T090000
DTEND;TZID=America/Denver:20260404T100000
DTSTAMP:20260422T095522
CREATED:20260105T204215Z
LAST-MODIFIED:20260326T195313Z
UID:10000672-1775293200-1775296800@www.vistamontaineresidents.com
SUMMARY:Yoga
DESCRIPTION:Join Bridget for a one hour all-levels yoga class. This class is appropritate for beginners and seasond practitioners. Variations and options for modifications will be given. Please bring a yoga mat — other props such as blocks\, blankets\, straps\, etc. are optional. At this time\, props are not available in the Amenity Center. \nPlease register on the app to save your spot – and if you can’t make it\, cancel your registration to allow room for others!
URL:https://www.vistamontaineresidents.com/event/yoga/2026-04-04/
LOCATION:Multipurpose Room – South\, 945 E. Montaine Circle\, Castle Rock\, CO\, 80104\, United States
CATEGORIES:event
END:VEVENT
BEGIN:VEVENT
DTSTART;TZID=America/Denver:20260328T090000
DTEND;TZID=America/Denver:20260328T100000
DTSTAMP:20260422T095522
CREATED:20251023T185948Z
LAST-MODIFIED:20260416T202737Z
UID:10000660-1774688400-1774692000@www.vistamontaineresidents.com
SUMMARY:Mat Pilates
DESCRIPTION:Wake up and move with Dyne at our 9 a.m. Mat Pilates class! This welcoming class focuses on building core strength\, improving flexibility\, and finding balance — all at a pace that’s right for you. Perfect for all levels\, come start your day feeling energized and refreshed! \nSpots are limited\, so be sure to RSVP. Bring a mat if you have one.
URL:https://www.vistamontaineresidents.com/event/mat-pilates/2026-03-28/
LOCATION:Multipurpose Room – South\, 945 E. Montaine Circle\, Castle Rock\, CO\, 80104\, United States
CATEGORIES:event
END:VEVENT
END:VCALENDAR