BEGIN:VCALENDAR
VERSION:2.0
PRODID:-//Vista at Montaine Resident Website - ECPv6.15.18//NONSGML v1.0//EN
CALSCALE:GREGORIAN
METHOD:PUBLISH
X-ORIGINAL-URL:https://www.vistamontaineresidents.com
X-WR-CALDESC:Events for Vista at Montaine Resident Website
REFRESH-INTERVAL;VALUE=DURATION:PT1H
X-Robots-Tag:noindex
X-PUBLISHED-TTL:PT1H
BEGIN:VTIMEZONE
TZID:America/Denver
BEGIN:DAYLIGHT
TZOFFSETFROM:-0700
TZOFFSETTO:-0600
TZNAME:MDT
DTSTART:20250309T090000
END:DAYLIGHT
BEGIN:STANDARD
TZOFFSETFROM:-0600
TZOFFSETTO:-0700
TZNAME:MST
DTSTART:20251102T080000
END:STANDARD
BEGIN:DAYLIGHT
TZOFFSETFROM:-0700
TZOFFSETTO:-0600
TZNAME:MDT
DTSTART:20260308T090000
END:DAYLIGHT
BEGIN:STANDARD
TZOFFSETFROM:-0600
TZOFFSETTO:-0700
TZNAME:MST
DTSTART:20261101T080000
END:STANDARD
BEGIN:DAYLIGHT
TZOFFSETFROM:-0700
TZOFFSETTO:-0600
TZNAME:MDT
DTSTART:20270314T090000
END:DAYLIGHT
BEGIN:STANDARD
TZOFFSETFROM:-0600
TZOFFSETTO:-0700
TZNAME:MST
DTSTART:20271107T080000
END:STANDARD
END:VTIMEZONE
BEGIN:VEVENT
DTSTART;TZID=America/Denver:20260421T180000
DTEND;TZID=America/Denver:20260421T200000
DTSTAMP:20260422T095610
CREATED:20260413T214152Z
LAST-MODIFIED:20260413T214152Z
UID:10000680-1776794400-1776801600@www.vistamontaineresidents.com
SUMMARY:The Betty's Book Club
DESCRIPTION:April’s book is All the Light we Cannot See by Anthony Doerr. “A novel to live in\, learn from\, and feel bereft over when the last page is turned.”\nThe Betty’s Book club meets at the Vista Clubhouse in Multipurpose North. New members always welcome!
URL:https://www.vistamontaineresidents.com/event/the-bettys-book-club/
LOCATION:Multipurpose Room – North
CATEGORIES:event
END:VEVENT
BEGIN:VEVENT
DTSTART;TZID=America/Denver:20260418T100000
DTEND;TZID=America/Denver:20260418T110000
DTSTAMP:20260422T095610
CREATED:20260326T183329Z
LAST-MODIFIED:20260326T183329Z
UID:10000667-1776506400-1776510000@www.vistamontaineresidents.com
SUMMARY:New Resident Welcome
DESCRIPTION:Whether you moved last week or it’s been a few months — join us for the new resident welcome! There will be a short presentation covering the “need-to-know” for Vista\, followed by time to meet neighbors and the Community Life team. Food will be provided.\nAll residents are encouraged to stop by to help us welcome new neighbors! \nRSVP on the Vista at Montaine app to let us know you’ll be there.
URL:https://www.vistamontaineresidents.com/event/new-resident-welcome/
LOCATION:Multipurpose Room – North
CATEGORIES:event
ORGANIZER;CN="Vista at Montaine Community Life":MAILTO:vistaatmontaine@coherelife.com
END:VEVENT
END:VCALENDAR