BEGIN:VCALENDAR
VERSION:2.0
PRODID:-//Vista at Montaine Resident Website - ECPv6.15.18//NONSGML v1.0//EN
CALSCALE:GREGORIAN
METHOD:PUBLISH
X-ORIGINAL-URL:https://www.vistamontaineresidents.com
X-WR-CALDESC:Events for Vista at Montaine Resident Website
REFRESH-INTERVAL;VALUE=DURATION:PT1H
X-Robots-Tag:noindex
X-PUBLISHED-TTL:PT1H
BEGIN:VTIMEZONE
TZID:America/Denver
BEGIN:DAYLIGHT
TZOFFSETFROM:-0700
TZOFFSETTO:-0600
TZNAME:MDT
DTSTART:20250309T090000
END:DAYLIGHT
BEGIN:STANDARD
TZOFFSETFROM:-0600
TZOFFSETTO:-0700
TZNAME:MST
DTSTART:20251102T080000
END:STANDARD
BEGIN:DAYLIGHT
TZOFFSETFROM:-0700
TZOFFSETTO:-0600
TZNAME:MDT
DTSTART:20260308T090000
END:DAYLIGHT
BEGIN:STANDARD
TZOFFSETFROM:-0600
TZOFFSETTO:-0700
TZNAME:MST
DTSTART:20261101T080000
END:STANDARD
BEGIN:DAYLIGHT
TZOFFSETFROM:-0700
TZOFFSETTO:-0600
TZNAME:MDT
DTSTART:20270314T090000
END:DAYLIGHT
BEGIN:STANDARD
TZOFFSETFROM:-0600
TZOFFSETTO:-0700
TZNAME:MST
DTSTART:20271107T080000
END:STANDARD
END:VTIMEZONE
BEGIN:VEVENT
DTSTART;TZID=America/Denver:20260323T130000
DTEND;TZID=America/Denver:20260323T140000
DTSTAMP:20260422T114356
CREATED:20260323T182210Z
LAST-MODIFIED:20260323T182210Z
UID:10000666-1774270800-1774274400@www.vistamontaineresidents.com
SUMMARY:VMCA Special Board Meeting
DESCRIPTION:The VMCA Board of Directors has called a special meeting. \nYou can join the meeting via Zoom. \nMontaine is inviting you to a scheduled Zoom meeting. \nTopic: VMCA Special Board Meeting 3.23.26\nTime: Mar 23\, 2026 01:00 PM Mountain Time (US and Canada)\nJoin Zoom Meeting\nhttps://zoom.us/j/97910386847?pwd=VNkyEmoQJd4bo6tW3IKm51HkEAOj8y.1 \nMeeting ID: 979 1038 6847\nPasscode: 655635 \n— \nOne tap mobile\n+17193594580\,\,97910386847#\,\,\,\,*655635# US\n+16694449171\,\,97910386847#\,\,\,\,*655635# US \nJoin instructions\nhttps://zoom.us/meetings/97910386847/invitations?signature=sjZbclytlVG33tV8JZHcwa2ROmitHcgabCxJUzEZZAs \n 
URL:https://www.vistamontaineresidents.com/event/vmca-special-board-meeting-2/
CATEGORIES:Meeting
END:VEVENT
END:VCALENDAR