BEGIN:VCALENDAR
VERSION:2.0
PRODID:-//Vista at Montaine Resident Website - ECPv6.15.18//NONSGML v1.0//EN
CALSCALE:GREGORIAN
METHOD:PUBLISH
X-WR-CALNAME:Vista at Montaine Resident Website
X-ORIGINAL-URL:https://www.vistamontaineresidents.com
X-WR-CALDESC:Events for Vista at Montaine Resident Website
REFRESH-INTERVAL;VALUE=DURATION:PT1H
X-Robots-Tag:noindex
X-PUBLISHED-TTL:PT1H
BEGIN:VTIMEZONE
TZID:America/Denver
BEGIN:DAYLIGHT
TZOFFSETFROM:-0700
TZOFFSETTO:-0600
TZNAME:MDT
DTSTART:20250309T090000
END:DAYLIGHT
BEGIN:STANDARD
TZOFFSETFROM:-0600
TZOFFSETTO:-0700
TZNAME:MST
DTSTART:20251102T080000
END:STANDARD
BEGIN:DAYLIGHT
TZOFFSETFROM:-0700
TZOFFSETTO:-0600
TZNAME:MDT
DTSTART:20260308T090000
END:DAYLIGHT
BEGIN:STANDARD
TZOFFSETFROM:-0600
TZOFFSETTO:-0700
TZNAME:MST
DTSTART:20261101T080000
END:STANDARD
BEGIN:DAYLIGHT
TZOFFSETFROM:-0700
TZOFFSETTO:-0600
TZNAME:MDT
DTSTART:20270314T090000
END:DAYLIGHT
BEGIN:STANDARD
TZOFFSETFROM:-0600
TZOFFSETTO:-0700
TZNAME:MST
DTSTART:20271107T080000
END:STANDARD
END:VTIMEZONE
BEGIN:VEVENT
DTSTART;TZID=America/Denver:20260422T180000
DTEND;TZID=America/Denver:20260422T190000
DTSTAMP:20260422T095308
CREATED:20260402T220602Z
LAST-MODIFIED:20260402T220602Z
UID:10000677-1776880800-1776884400@www.vistamontaineresidents.com
SUMMARY:Yoga with Adi
DESCRIPTION:Unwind and recharge with Yoga with Adi! This all-levels class is a great way to stretch\, relax\, and connect with neighbors. Please bring your own mat and water\, and be sure to sign up in advance to participate.\nBe sure to register on the Vista at Montaine app under “Community Events”.
URL:https://www.vistamontaineresidents.com/event/yoga-with-adi/2026-04-22/
LOCATION:Multipurpose Room – South\, 945 E. Montaine Circle\, Castle Rock\, CO\, 80104\, United States
CATEGORIES:event
END:VEVENT
END:VCALENDAR