BEGIN:VCALENDAR
VERSION:2.0
PRODID:-//Vista at Montaine Resident Website - ECPv6.15.18//NONSGML v1.0//EN
CALSCALE:GREGORIAN
METHOD:PUBLISH
X-ORIGINAL-URL:https://www.vistamontaineresidents.com
X-WR-CALDESC:Events for Vista at Montaine Resident Website
REFRESH-INTERVAL;VALUE=DURATION:PT1H
X-Robots-Tag:noindex
X-PUBLISHED-TTL:PT1H
BEGIN:VTIMEZONE
TZID:America/Denver
BEGIN:DAYLIGHT
TZOFFSETFROM:-0700
TZOFFSETTO:-0600
TZNAME:MDT
DTSTART:20250309T090000
END:DAYLIGHT
BEGIN:STANDARD
TZOFFSETFROM:-0600
TZOFFSETTO:-0700
TZNAME:MST
DTSTART:20251102T080000
END:STANDARD
BEGIN:DAYLIGHT
TZOFFSETFROM:-0700
TZOFFSETTO:-0600
TZNAME:MDT
DTSTART:20260308T090000
END:DAYLIGHT
BEGIN:STANDARD
TZOFFSETFROM:-0600
TZOFFSETTO:-0700
TZNAME:MST
DTSTART:20261101T080000
END:STANDARD
BEGIN:DAYLIGHT
TZOFFSETFROM:-0700
TZOFFSETTO:-0600
TZNAME:MDT
DTSTART:20270314T090000
END:DAYLIGHT
BEGIN:STANDARD
TZOFFSETFROM:-0600
TZOFFSETTO:-0700
TZNAME:MST
DTSTART:20271107T080000
END:STANDARD
END:VTIMEZONE
BEGIN:VEVENT
DTSTART;TZID=America/Denver:20260428T190000
DTEND;TZID=America/Denver:20260428T200000
DTSTAMP:20260422T162413
CREATED:20260402T220433Z
LAST-MODIFIED:20260402T220433Z
UID:10000675-1777402800-1777406400@www.vistamontaineresidents.com
SUMMARY:Community Café: Landscaping
DESCRIPTION:Community Cafes serve as collaborative\, informational sessions where residents can learn more about management of the neighborhood\, ask questions\, and provide comments.\nApril’s topic is landscaping. The Community Life team\, along with our landscaping partner\, Environmental Designs\, will be presenting on and discussing landscaping in Montaine.\n\n\nRSVP on the Vista at Montaine app to let us know you’ll be there.
URL:https://www.vistamontaineresidents.com/event/community-cafe-landscaping/
LOCATION:Multipurpose Room – North
CATEGORIES:event
END:VEVENT
BEGIN:VEVENT
DTSTART;TZID=America/Denver:20260430T190000
DTEND;TZID=America/Denver:20260430T200000
DTSTAMP:20260422T162413
CREATED:20260402T220323Z
LAST-MODIFIED:20260402T220323Z
UID:10000674-1777575600-1777579200@www.vistamontaineresidents.com
SUMMARY:Fire Mitigation Informational Session
DESCRIPTION:Join your neighbors Tim and Carlos as they lead this informational session in partnership with Fire Marshal Kevin Sullivan. The goal of this session is to provide practical information on steps homeowners can take to reduce fire risk on their own property. \n\nJoin us to find out what you can be doing at your own home to follow fire mitigation best practices!\n\n\nRSVP on the Vista at Montaine app to let us know you’ll be there.
URL:https://www.vistamontaineresidents.com/event/fire-mitigation-informational-session/
LOCATION:Multipurpose Room – North
CATEGORIES:event
END:VEVENT
END:VCALENDAR