BEGIN:VCALENDAR
VERSION:2.0
PRODID:-//Vista at Montaine Resident Website - ECPv6.15.18//NONSGML v1.0//EN
CALSCALE:GREGORIAN
METHOD:PUBLISH
X-ORIGINAL-URL:https://www.vistamontaineresidents.com
X-WR-CALDESC:Events for Vista at Montaine Resident Website
REFRESH-INTERVAL;VALUE=DURATION:PT1H
X-Robots-Tag:noindex
X-PUBLISHED-TTL:PT1H
BEGIN:VTIMEZONE
TZID:America/Denver
BEGIN:DAYLIGHT
TZOFFSETFROM:-0700
TZOFFSETTO:-0600
TZNAME:MDT
DTSTART:20250309T090000
END:DAYLIGHT
BEGIN:STANDARD
TZOFFSETFROM:-0600
TZOFFSETTO:-0700
TZNAME:MST
DTSTART:20251102T080000
END:STANDARD
BEGIN:DAYLIGHT
TZOFFSETFROM:-0700
TZOFFSETTO:-0600
TZNAME:MDT
DTSTART:20260308T090000
END:DAYLIGHT
BEGIN:STANDARD
TZOFFSETFROM:-0600
TZOFFSETTO:-0700
TZNAME:MST
DTSTART:20261101T080000
END:STANDARD
BEGIN:DAYLIGHT
TZOFFSETFROM:-0700
TZOFFSETTO:-0600
TZNAME:MDT
DTSTART:20270314T090000
END:DAYLIGHT
BEGIN:STANDARD
TZOFFSETFROM:-0600
TZOFFSETTO:-0700
TZNAME:MST
DTSTART:20271107T080000
END:STANDARD
END:VTIMEZONE
BEGIN:VEVENT
DTSTART;TZID=America/Denver:20260323T090000
DTEND;TZID=America/Denver:20260323T170000
DTSTAMP:20260422T111304
CREATED:20260205T203149Z
LAST-MODIFIED:20260205T211038Z
UID:10000647-1774256400-1774285200@www.vistamontaineresidents.com
SUMMARY:Ballot Drop-Off
DESCRIPTION:Ballots for the VMCA Board of Directors election can be dropped off at the Vista Amenity Center during these times. The Community Life Team will be available to receive ballots Mondays – Fridays 9 a.m. – 5 p.m. and Sundays in March 10 a.m. – 2 p.m. \nPlease note: On Thursday\, March 5th\, we will not be able to receive ballots after 1 p.m. \nIf you did not receive your election packet in the mail or have misplaced it\, we have extra ballots and packets at the Amenity Center. \nIf you are mailing your ballot\, please be sure to closely follow the instructions provided. Ballots received via mail that are not in the secrecy envelope and do not have a return address are considered invalid and will not be counted.
URL:https://www.vistamontaineresidents.com/event/ballot-drop-off/2026-03-23/
LOCATION:Vista Amenity Center\, 945 E Montaine Cir\, Castle Rock\, CO\, 80104\, United States
CATEGORIES:event
END:VEVENT
END:VCALENDAR